BEGIN:VCALENDAR
METHOD:PUBLISH
PRODID:-//github.com/rianjs/ical.net//NONSGML ical.net 4.0//EN
VERSION:2.0
BEGIN:VTIMEZONE
TZID:Pacific/Honolulu
X-LIC-LOCATION:Pacific/Honolulu
BEGIN:STANDARD
DTSTART:19470608T033000
RRULE:FREQ=YEARLY;BYDAY=2SU;BYMONTH=6
TZNAME:HST
TZOFFSETFROM:-0900
TZOFFSETTO:-1000
END:STANDARD
END:VTIMEZONE
BEGIN:VEVENT
DESCRIPTION;LANGUAGE=en-US:This notice is intended to satisfy the notice r
 equirement of Hawai'i Revised Statutes (HRS) Section 92-7.\nhttps://www.k
 auai.gov/Government/Boards-and-Commissions/Charter-Review-Commission/0427
 26-Meeting
DTEND:20260427T235959
DTSTAMP:20260422T182101Z
DTSTART:20260427T150000
GEO:21.976049;-159.368582
LOCATION:Boards & Commissions Conference Room\, 4444 Rice St.\, Ste. 300\,
  Lihue 96766
SEQUENCE:0
SUMMARY;LANGUAGE=en-US:27 Apr 2026 - Boards & Commissions Meeting
UID:OpenCities.82d1b199-5add-4e2b-b8bb-40844184f430.27002026150400
BEGIN:VALARM
ACTION:DISPLAY
DESCRIPTION:Reminder
DURATION:P0D
TRIGGER:P0D
END:VALARM
END:VEVENT
END:VCALENDAR
